Package: m6Aboost Version: 1.13.0 Command: /Library/Frameworks/R.framework/Resources/bin/R CMD check --install=check:m6Aboost.install-out.txt --library=/Library/Frameworks/R.framework/Resources/library --no-vignettes --timings m6Aboost_1.13.0.tar.gz StartedAt: 2025-02-09 21:37:27 -0500 (Sun, 09 Feb 2025) EndedAt: 2025-02-09 21:43:27 -0500 (Sun, 09 Feb 2025) EllapsedTime: 359.8 seconds RetCode: 0 Status: OK CheckDir: m6Aboost.Rcheck Warnings: 0