Package: m6Aboost Version: 1.13.0 Command: /home/biocbuild/bbs-3.21-bioc/R/bin/R CMD check --install=check:m6Aboost.install-out.txt --library=/home/biocbuild/bbs-3.21-bioc/R/site-library --timings m6Aboost_1.13.0.tar.gz StartedAt: 2025-02-09 23:42:19 -0500 (Sun, 09 Feb 2025) EndedAt: 2025-02-09 23:48:08 -0500 (Sun, 09 Feb 2025) EllapsedTime: 349.4 seconds RetCode: 0 Status: OK CheckDir: m6Aboost.Rcheck Warnings: 0