Package: m6Aboost Version: 1.13.0 Command: /home/biocbuild/bbs-3.21-bioc/R/bin/R CMD INSTALL m6Aboost StartedAt: 2025-02-03 16:04:43 -0500 (Mon, 03 Feb 2025) EndedAt: 2025-02-03 16:05:27 -0500 (Mon, 03 Feb 2025) EllapsedTime: 44.4 seconds RetCode: 0 Status: OK