Package: m6Aboost Version: 1.13.0 Command: E:\biocbuild\bbs-3.21-bioc\R\bin\R.exe CMD check --no-multiarch --install=check:m6Aboost.install-out.txt --library=E:\biocbuild\bbs-3.21-bioc\R\library --no-vignettes --timings m6Aboost_1.13.0.tar.gz StartedAt: 2025-02-10 02:27:58 -0500 (Mon, 10 Feb 2025) EndedAt: 2025-02-10 02:34:11 -0500 (Mon, 10 Feb 2025) EllapsedTime: 373.0 seconds RetCode: 0 Status: OK CheckDir: m6Aboost.Rcheck Warnings: 0