Package: m6Aboost Version: 1.13.0 Command: E:\biocbuild\bbs-3.21-bioc\R\bin\R.exe CMD INSTALL m6Aboost StartedAt: 2025-02-09 16:34:46 -0500 (Sun, 09 Feb 2025) EndedAt: 2025-02-09 16:35:45 -0500 (Sun, 09 Feb 2025) EllapsedTime: 59.7 seconds RetCode: 0 Status: OK