Package: mBPCR Version: 1.61.0 Command: rm -rf mBPCR.buildbin-libdir && mkdir mBPCR.buildbin-libdir && /Users/biocbuild/BBS/utils/build-universal.sh mBPCR_1.61.0.tar.gz /Library/Frameworks/R.framework/Resources/bin/R mBPCR.buildbin-libdir StartedAt: 2025-02-12 22:25:07 -0500 (Wed, 12 Feb 2025) EndedAt: 2025-02-12 22:25:21 -0500 (Wed, 12 Feb 2025) EllapsedTime: 14.3 seconds RetCode: 0 Status: OK PackageFile: mBPCR_1.61.0.tgz PackageFileSize: 915.9 KiB