Package: mBPCR Version: 1.61.0 Command: /Library/Frameworks/R.framework/Resources/bin/R CMD INSTALL mBPCR StartedAt: 2025-02-12 15:23:12 -0500 (Wed, 12 Feb 2025) EndedAt: 2025-02-12 15:23:24 -0500 (Wed, 12 Feb 2025) EllapsedTime: 12.5 seconds RetCode: 0 Status: OK