Package: mBPCR Version: 1.61.0 Command: /home/biocbuild/R/R/bin/R CMD INSTALL mBPCR StartedAt: 2025-01-29 20:24:06 -0000 (Wed, 29 Jan 2025) EndedAt: 2025-01-29 20:24:49 -0000 (Wed, 29 Jan 2025) EllapsedTime: 43.2 seconds RetCode: 0 Status: OK