Package: mBPCR Version: 1.61.0 Command: rm -rf mBPCR.buildbin-libdir && mkdir mBPCR.buildbin-libdir && /Users/biocbuild/BBS/utils/build-universal.sh mBPCR_1.61.0.tar.gz /Library/Frameworks/R.framework/Resources/bin/R mBPCR.buildbin-libdir StartedAt: 2025-02-10 01:01:07 -0500 (Mon, 10 Feb 2025) EndedAt: 2025-02-10 01:01:55 -0500 (Mon, 10 Feb 2025) EllapsedTime: 47.5 seconds RetCode: 0 Status: OK PackageFile: mBPCR_1.61.0.tgz PackageFileSize: 914.9 KiB