Package: mBPCR Version: 1.61.0 Command: /Library/Frameworks/R.framework/Resources/bin/R CMD INSTALL mBPCR StartedAt: 2025-02-09 15:37:06 -0500 (Sun, 09 Feb 2025) EndedAt: 2025-02-09 15:37:49 -0500 (Sun, 09 Feb 2025) EllapsedTime: 43.1 seconds RetCode: 0 Status: OK