Package: mBPCR Version: 1.61.0 Command: /home/biocbuild/bbs-3.21-bioc/R/bin/R CMD check --install=check:mBPCR.install-out.txt --library=/home/biocbuild/bbs-3.21-bioc/R/site-library --timings mBPCR_1.61.0.tar.gz StartedAt: 2025-02-09 23:48:42 -0500 (Sun, 09 Feb 2025) EndedAt: 2025-02-09 23:52:49 -0500 (Sun, 09 Feb 2025) EllapsedTime: 246.2 seconds RetCode: 0 Status: OK CheckDir: mBPCR.Rcheck Warnings: 0