Package: mBPCR Version: 1.61.0 Command: /home/biocbuild/bbs-3.21-bioc/R/bin/R CMD INSTALL mBPCR StartedAt: 2025-02-09 15:19:06 -0500 (Sun, 09 Feb 2025) EndedAt: 2025-02-09 15:19:37 -0500 (Sun, 09 Feb 2025) EllapsedTime: 31.6 seconds RetCode: 0 Status: OK