Package: mBPCR Version: 1.61.0 Command: chmod a+r mBPCR -R && E:\biocbuild\bbs-3.21-bioc\R\bin\R.exe CMD build --keep-empty-dirs --no-resave-data mBPCR StartedAt: 2025-02-12 19:47:06 -0500 (Wed, 12 Feb 2025) EndedAt: 2025-02-12 19:48:33 -0500 (Wed, 12 Feb 2025) EllapsedTime: 87.2 seconds RetCode: 0 Status: OK PackageFile: mBPCR_1.61.0.tar.gz PackageFileSize: 693.4 KiB