Package: maCorrPlot Version: 1.77.0 Command: rm -rf maCorrPlot.buildbin-libdir && mkdir maCorrPlot.buildbin-libdir && /Users/biocbuild/BBS/utils/build-universal.sh maCorrPlot_1.77.0.tar.gz /Library/Frameworks/R.framework/Resources/bin/R maCorrPlot.buildbin-libdir StartedAt: 2025-02-09 22:19:29 -0500 (Sun, 09 Feb 2025) EndedAt: 2025-02-09 22:19:31 -0500 (Sun, 09 Feb 2025) EllapsedTime: 2.0 seconds RetCode: 0 Status: OK PackageFile: maCorrPlot_1.77.0.tgz PackageFileSize: 1.169 MiB