Package: maCorrPlot Version: 1.77.0 Command: /Library/Frameworks/R.framework/Resources/bin/R CMD build --keep-empty-dirs --no-resave-data maCorrPlot StartedAt: 2025-02-09 16:47:13 -0500 (Sun, 09 Feb 2025) EndedAt: 2025-02-09 16:47:17 -0500 (Sun, 09 Feb 2025) EllapsedTime: 4.0 seconds RetCode: 0 Status: OK PackageFile: maCorrPlot_1.77.0.tar.gz PackageFileSize: 1.265 MiB