Package: maCorrPlot Version: 1.77.0 Command: /Library/Frameworks/R.framework/Resources/bin/R CMD INSTALL maCorrPlot StartedAt: 2025-02-03 15:36:18 -0500 (Mon, 03 Feb 2025) EndedAt: 2025-02-03 15:36:23 -0500 (Mon, 03 Feb 2025) EllapsedTime: 4.9 seconds RetCode: 0 Status: OK