Package: maCorrPlot Version: 1.77.0 Command: /home/biocbuild/R/R/bin/R CMD INSTALL maCorrPlot StartedAt: 2025-01-29 19:30:16 -0000 (Wed, 29 Jan 2025) EndedAt: 2025-01-29 19:30:48 -0000 (Wed, 29 Jan 2025) EllapsedTime: 32.0 seconds RetCode: 0 Status: OK