Package: maCorrPlot Version: 1.77.0 Command: rm -rf maCorrPlot.buildbin-libdir && mkdir maCorrPlot.buildbin-libdir && /Users/biocbuild/BBS/utils/build-universal.sh maCorrPlot_1.77.0.tar.gz /Library/Frameworks/R.framework/Resources/bin/R maCorrPlot.buildbin-libdir StartedAt: 2025-02-10 01:00:36 -0500 (Mon, 10 Feb 2025) EndedAt: 2025-02-10 01:00:43 -0500 (Mon, 10 Feb 2025) EllapsedTime: 7.0 seconds RetCode: 0 Status: OK PackageFile: maCorrPlot_1.77.0.tgz PackageFileSize: 1.169 MiB