Package: maCorrPlot Version: 1.77.0 Command: /Library/Frameworks/R.framework/Resources/bin/R CMD build --keep-empty-dirs --no-resave-data maCorrPlot StartedAt: 2025-02-03 17:16:37 -0500 (Mon, 03 Feb 2025) EndedAt: 2025-02-03 17:16:49 -0500 (Mon, 03 Feb 2025) EllapsedTime: 11.4 seconds RetCode: 0 Status: OK PackageFile: maCorrPlot_1.77.0.tar.gz PackageFileSize: 1.265 MiB