Package: maCorrPlot Version: 1.77.0 Command: /Library/Frameworks/R.framework/Resources/bin/R CMD INSTALL maCorrPlot StartedAt: 2025-02-03 15:08:59 -0500 (Mon, 03 Feb 2025) EndedAt: 2025-02-03 15:09:34 -0500 (Mon, 03 Feb 2025) EllapsedTime: 35.6 seconds RetCode: 0 Status: OK