Package: maCorrPlot Version: 1.77.0 Command: rm -rf maCorrPlot.buildbin-libdir && mkdir maCorrPlot.buildbin-libdir && E:\biocbuild\bbs-3.21-bioc\R\bin\R.exe CMD INSTALL --build --library=maCorrPlot.buildbin-libdir maCorrPlot_1.77.0.tar.gz StartedAt: 2025-02-04 08:16:52 -0500 (Tue, 04 Feb 2025) EndedAt: 2025-02-04 08:17:02 -0500 (Tue, 04 Feb 2025) EllapsedTime: 10.0 seconds RetCode: 0 Status: OK PackageFile: maCorrPlot_1.77.0.zip PackageFileSize: 1.172 MiB