Package: maCorrPlot Version: 1.77.0 Command: chmod a+r maCorrPlot -R && E:\biocbuild\bbs-3.21-bioc\R\bin\R.exe CMD build --keep-empty-dirs --no-resave-data maCorrPlot StartedAt: 2025-02-03 19:49:32 -0500 (Mon, 03 Feb 2025) EndedAt: 2025-02-03 19:49:48 -0500 (Mon, 03 Feb 2025) EllapsedTime: 16.0 seconds RetCode: 0 Status: OK PackageFile: maCorrPlot_1.77.0.tar.gz PackageFileSize: 1.265 MiB