Package: maCorrPlot Version: 1.77.0 Command: E:\biocbuild\bbs-3.21-bioc\R\bin\R.exe CMD INSTALL maCorrPlot StartedAt: 2025-02-09 15:19:43 -0500 (Sun, 09 Feb 2025) EndedAt: 2025-02-09 15:20:01 -0500 (Sun, 09 Feb 2025) EllapsedTime: 18.4 seconds RetCode: 0 Status: OK