Package: maPredictDSC Version: 1.45.0 Command: rm -rf maPredictDSC.buildbin-libdir && mkdir maPredictDSC.buildbin-libdir && /Users/biocbuild/BBS/utils/build-universal.sh maPredictDSC_1.45.0.tar.gz /Library/Frameworks/R.framework/Resources/bin/R maPredictDSC.buildbin-libdir StartedAt: 2025-02-09 22:19:39 -0500 (Sun, 09 Feb 2025) EndedAt: 2025-02-09 22:19:49 -0500 (Sun, 09 Feb 2025) EllapsedTime: 10.2 seconds RetCode: 0 Status: OK PackageFile: maPredictDSC_1.45.0.tgz PackageFileSize: 229.1 KiB