Package: maPredictDSC Version: 1.45.0 Command: /Library/Frameworks/R.framework/Resources/bin/R CMD build --keep-empty-dirs --no-resave-data maPredictDSC StartedAt: 2025-02-03 17:24:26 -0500 (Mon, 03 Feb 2025) EndedAt: 2025-02-03 17:25:02 -0500 (Mon, 03 Feb 2025) EllapsedTime: 36.4 seconds RetCode: 0 Status: OK PackageFile: maPredictDSC_1.45.0.tar.gz PackageFileSize: 197.5 KiB