Package: maPredictDSC Version: 1.45.0 Command: /Library/Frameworks/R.framework/Resources/bin/R CMD INSTALL maPredictDSC StartedAt: 2025-02-09 15:23:45 -0500 (Sun, 09 Feb 2025) EndedAt: 2025-02-09 15:23:54 -0500 (Sun, 09 Feb 2025) EllapsedTime: 9.0 seconds RetCode: 0 Status: OK