Package: maPredictDSC Version: 1.45.0 Command: /home/biocbuild/R/R/bin/R CMD INSTALL maPredictDSC StartedAt: 2025-01-29 20:24:51 -0000 (Wed, 29 Jan 2025) EndedAt: 2025-01-29 20:25:23 -0000 (Wed, 29 Jan 2025) EllapsedTime: 32.4 seconds RetCode: 0 Status: OK