Package: maPredictDSC Version: 1.45.0 Command: /Library/Frameworks/R.framework/Resources/bin/R CMD check --install=check:maPredictDSC.install-out.txt --library=/Library/Frameworks/R.framework/Resources/library --no-vignettes --timings maPredictDSC_1.45.0.tar.gz StartedAt: 2025-02-09 21:38:52 -0500 (Sun, 09 Feb 2025) EndedAt: 2025-02-09 21:43:23 -0500 (Sun, 09 Feb 2025) EllapsedTime: 270.9 seconds RetCode: 0 Status: OK CheckDir: maPredictDSC.Rcheck Warnings: 0