Package: maPredictDSC Version: 1.45.0 Command: /home/biocbuild/bbs-3.21-bioc/R/bin/R CMD build --keep-empty-dirs --no-resave-data maPredictDSC StartedAt: 2025-02-09 17:55:12 -0500 (Sun, 09 Feb 2025) EndedAt: 2025-02-09 17:56:37 -0500 (Sun, 09 Feb 2025) EllapsedTime: 85.1 seconds RetCode: 0 Status: OK PackageFile: maPredictDSC_1.45.0.tar.gz PackageFileSize: 197.5 KiB