Package: maPredictDSC Version: 1.45.0 Command: /home/biocbuild/bbs-3.21-bioc/R/bin/R CMD check --install=check:maPredictDSC.install-out.txt --library=/home/biocbuild/bbs-3.21-bioc/R/site-library --timings maPredictDSC_1.45.0.tar.gz StartedAt: 2025-02-03 23:52:18 -0500 (Mon, 03 Feb 2025) EndedAt: 2025-02-03 23:57:26 -0500 (Mon, 03 Feb 2025) EllapsedTime: 307.5 seconds RetCode: 0 Status: OK CheckDir: maPredictDSC.Rcheck Warnings: 0