Package: maPredictDSC Version: 1.45.0 Command: /home/biocbuild/bbs-3.21-bioc/R/bin/R CMD INSTALL maPredictDSC StartedAt: 2025-02-09 15:26:20 -0500 (Sun, 09 Feb 2025) EndedAt: 2025-02-09 15:26:43 -0500 (Sun, 09 Feb 2025) EllapsedTime: 23.3 seconds RetCode: 0 Status: OK