Package: maPredictDSC Version: 1.45.0 Command: E:\biocbuild\bbs-3.21-bioc\R\bin\R.exe CMD check --no-multiarch --install=check:maPredictDSC.install-out.txt --library=E:\biocbuild\bbs-3.21-bioc\R\library --no-vignettes --timings maPredictDSC_1.45.0.tar.gz StartedAt: 2025-02-10 02:31:35 -0500 (Mon, 10 Feb 2025) EndedAt: 2025-02-10 02:37:18 -0500 (Mon, 10 Feb 2025) EllapsedTime: 342.7 seconds RetCode: 0 Status: OK CheckDir: maPredictDSC.Rcheck Warnings: 0