Package: maSigPro Version: 1.79.0 Command: rm -rf maSigPro.buildbin-libdir && mkdir maSigPro.buildbin-libdir && /Users/biocbuild/BBS/utils/build-universal.sh maSigPro_1.79.0.tar.gz /Library/Frameworks/R.framework/Resources/bin/R maSigPro.buildbin-libdir StartedAt: 2025-02-09 22:19:42 -0500 (Sun, 09 Feb 2025) EndedAt: 2025-02-09 22:19:45 -0500 (Sun, 09 Feb 2025) EllapsedTime: 3.0 seconds RetCode: 0 Status: OK PackageFile: maSigPro_1.79.0.tgz PackageFileSize: 1.684 MiB