Package: maSigPro Version: 1.79.0 Command: /Library/Frameworks/R.framework/Resources/bin/R CMD check --install=check:maSigPro.install-out.txt --library=/Library/Frameworks/R.framework/Resources/library --no-vignettes --timings maSigPro_1.79.0.tar.gz StartedAt: 2025-02-04 19:57:05 -0500 (Tue, 04 Feb 2025) EndedAt: 2025-02-04 19:57:58 -0500 (Tue, 04 Feb 2025) EllapsedTime: 52.6 seconds RetCode: 0 Status: OK CheckDir: maSigPro.Rcheck Warnings: 0