Package: maSigPro Version: 1.79.0 Command: /home/biocbuild/R/R/bin/R CMD build --keep-empty-dirs --no-resave-data maSigPro StartedAt: 2025-01-29 00:00:47 -0000 (Wed, 29 Jan 2025) EndedAt: 2025-01-29 00:00:56 -0000 (Wed, 29 Jan 2025) EllapsedTime: 9.0 seconds RetCode: 0 Status: OK PackageFile: maSigPro_1.79.0.tar.gz PackageFileSize: 1.516 MiB