Package: maSigPro Version: 1.79.0 Command: /home/biocbuild/R/R/bin/R CMD INSTALL maSigPro StartedAt: 2025-01-29 19:31:41 -0000 (Wed, 29 Jan 2025) EndedAt: 2025-01-29 19:32:14 -0000 (Wed, 29 Jan 2025) EllapsedTime: 33.0 seconds RetCode: 0 Status: OK