Package: maSigPro Version: 1.79.0 Command: rm -rf maSigPro.buildbin-libdir && mkdir maSigPro.buildbin-libdir && /Users/biocbuild/BBS/utils/build-universal.sh maSigPro_1.79.0.tar.gz /Library/Frameworks/R.framework/Resources/bin/R maSigPro.buildbin-libdir StartedAt: 2025-02-04 00:41:23 -0500 (Tue, 04 Feb 2025) EndedAt: 2025-02-04 00:41:32 -0500 (Tue, 04 Feb 2025) EllapsedTime: 9.2 seconds RetCode: 0 Status: OK PackageFile: maSigPro_1.79.0.tgz PackageFileSize: 1.683 MiB