Package: maSigPro Version: 1.79.0 Command: /Library/Frameworks/R.framework/Resources/bin/R CMD build --keep-empty-dirs --no-resave-data maSigPro StartedAt: 2025-02-09 17:18:19 -0500 (Sun, 09 Feb 2025) EndedAt: 2025-02-09 17:18:31 -0500 (Sun, 09 Feb 2025) EllapsedTime: 12.6 seconds RetCode: 0 Status: OK PackageFile: maSigPro_1.79.0.tar.gz PackageFileSize: 1.511 MiB