Package: maSigPro Version: 1.79.0 Command: /Library/Frameworks/R.framework/Resources/bin/R CMD INSTALL maSigPro StartedAt: 2025-02-09 15:05:15 -0500 (Sun, 09 Feb 2025) EndedAt: 2025-02-09 15:05:40 -0500 (Sun, 09 Feb 2025) EllapsedTime: 24.8 seconds RetCode: 0 Status: OK