Package: maSigPro Version: 1.79.0 Command: /home/biocbuild/bbs-3.21-bioc/R/bin/R CMD build --keep-empty-dirs --no-resave-data maSigPro StartedAt: 2025-02-09 17:56:03 -0500 (Sun, 09 Feb 2025) EndedAt: 2025-02-09 17:56:11 -0500 (Sun, 09 Feb 2025) EllapsedTime: 8.0 seconds RetCode: 0 Status: OK PackageFile: maSigPro_1.79.0.tar.gz PackageFileSize: 1.511 MiB