Package: maSigPro Version: 1.79.0 Command: rm -rf maSigPro.buildbin-libdir && mkdir maSigPro.buildbin-libdir && E:\biocbuild\bbs-3.21-bioc\R\bin\R.exe CMD INSTALL --build --library=maSigPro.buildbin-libdir maSigPro_1.79.0.tar.gz StartedAt: 2025-02-04 08:17:43 -0500 (Tue, 04 Feb 2025) EndedAt: 2025-02-04 08:18:06 -0500 (Tue, 04 Feb 2025) EllapsedTime: 23.0 seconds RetCode: 0 Status: OK PackageFile: maSigPro_1.79.0.zip PackageFileSize: 1.61 MiB