Package: maSigPro Version: 1.79.0 Command: chmod a+r maSigPro -R && E:\biocbuild\bbs-3.21-bioc\R\bin\R.exe CMD build --keep-empty-dirs --no-resave-data maSigPro StartedAt: 2025-02-09 19:39:30 -0500 (Sun, 09 Feb 2025) EndedAt: 2025-02-09 19:39:48 -0500 (Sun, 09 Feb 2025) EllapsedTime: 18.8 seconds RetCode: 0 Status: OK PackageFile: maSigPro_1.79.0.tar.gz PackageFileSize: 1.437 MiB