Package: maSigPro Version: 1.79.0 Command: E:\biocbuild\bbs-3.21-bioc\R\bin\R.exe CMD check --no-multiarch --install=check:maSigPro.install-out.txt --library=E:\biocbuild\bbs-3.21-bioc\R\library --no-vignettes --timings maSigPro_1.79.0.tar.gz StartedAt: 2025-02-10 02:31:55 -0500 (Mon, 10 Feb 2025) EndedAt: 2025-02-10 02:34:57 -0500 (Mon, 10 Feb 2025) EllapsedTime: 182.0 seconds RetCode: 0 Status: OK CheckDir: maSigPro.Rcheck Warnings: 0