Package: maaslin3 Version: 0.99.3 Command: /home/biocbuild/R/R/bin/R CMD build --keep-empty-dirs --no-resave-data maaslin3 StartedAt: 2025-01-28 23:57:44 -0000 (Tue, 28 Jan 2025) EndedAt: 2025-01-29 00:10:20 -0000 (Wed, 29 Jan 2025) EllapsedTime: 756.3 seconds RetCode: 0 Status: OK PackageFile: maaslin3_0.99.3.tar.gz PackageFileSize: 1.42 MiB