Package: maaslin3 Version: 0.99.3 Command: /home/biocbuild/R/R/bin/R CMD INSTALL maaslin3 StartedAt: 2025-01-29 20:19:35 -0000 (Wed, 29 Jan 2025) EndedAt: 2025-01-29 20:20:17 -0000 (Wed, 29 Jan 2025) EllapsedTime: 42.2 seconds RetCode: 0 Status: OK