Package: maaslin3 Version: 0.99.4 Command: /Library/Frameworks/R.framework/Resources/bin/R CMD build --keep-empty-dirs --no-resave-data maaslin3 StartedAt: 2025-02-04 17:12:22 -0500 (Tue, 04 Feb 2025) EndedAt: 2025-02-04 17:20:51 -0500 (Tue, 04 Feb 2025) EllapsedTime: 509.5 seconds RetCode: 0 Status: OK PackageFile: maaslin3_0.99.4.tar.gz PackageFileSize: 1.371 MiB