Package: maaslin3 Version: 0.99.4 Command: /Library/Frameworks/R.framework/Resources/bin/R CMD check --install=check:maaslin3.install-out.txt --library=/Library/Frameworks/R.framework/Resources/library --no-vignettes --timings maaslin3_0.99.4.tar.gz StartedAt: 2025-02-04 21:22:27 -0500 (Tue, 04 Feb 2025) EndedAt: 2025-02-04 21:31:45 -0500 (Tue, 04 Feb 2025) EllapsedTime: 558.6 seconds RetCode: 0 Status: OK CheckDir: maaslin3.Rcheck Warnings: 0