Package: maaslin3 Version: 0.99.4 Command: /Library/Frameworks/R.framework/Resources/bin/R CMD INSTALL maaslin3 StartedAt: 2025-02-04 15:32:54 -0500 (Tue, 04 Feb 2025) EndedAt: 2025-02-04 15:33:33 -0500 (Tue, 04 Feb 2025) EllapsedTime: 39.3 seconds RetCode: 0 Status: OK