Package: maaslin3 Version: 0.99.4 Command: /home/biocbuild/bbs-3.21-bioc/R/bin/R CMD check --install=check:maaslin3.install-out.txt --library=/home/biocbuild/bbs-3.21-bioc/R/site-library --timings maaslin3_0.99.4.tar.gz StartedAt: 2025-02-09 23:42:22 -0500 (Sun, 09 Feb 2025) EndedAt: 2025-02-09 23:59:09 -0500 (Sun, 09 Feb 2025) EllapsedTime: 1007.3 seconds RetCode: 0 Status: OK CheckDir: maaslin3.Rcheck Warnings: 0