Package: maaslin3 Version: 0.99.4 Command: rm -rf maaslin3.buildbin-libdir && mkdir maaslin3.buildbin-libdir && E:\biocbuild\bbs-3.21-bioc\R\bin\R.exe CMD INSTALL --build --library=maaslin3.buildbin-libdir maaslin3_0.99.4.tar.gz StartedAt: 2025-02-05 08:14:47 -0500 (Wed, 05 Feb 2025) EndedAt: 2025-02-05 08:15:46 -0500 (Wed, 05 Feb 2025) EllapsedTime: 59.1 seconds RetCode: 0 Status: OK PackageFile: maaslin3_0.99.4.zip PackageFileSize: 1.512 MiB